BEGIN:VCALENDAR
VERSION:2.0
PRODID:-//ChamberMaster//Event Calendar 2.0//EN
METHOD:PUBLISH
X-PUBLISHED-TTL:P1H
REFRESH-INTERVAL:P1H
CALSCALE:GREGORIAN
BEGIN:VTIMEZONE
TZID:America/Denver
BEGIN:DAYLIGHT
RRULE:FREQ=YEARLY;BYMONTH=3;BYDAY=2SU
DTSTART:20070101T000000
TZOFFSETFROM:-0700
TZOFFSETTO:-0600
TZNAME:Mountain Daylight Time
END:DAYLIGHT
BEGIN:STANDARD
RRULE:FREQ=YEARLY;BYMONTH=11;BYDAY=1SU
DTSTART:20070101T000000
TZOFFSETFROM:-0600
TZOFFSETTO:-0700
TZNAME:Mountain Standard Time
END:STANDARD
END:VTIMEZONE
BEGIN:VEVENT
DTSTART;TZID=America/Denver:20260504T160000
DTEND;TZID=America/Denver:20260504T190000
X-MICROSOFT-CDO-ALLDAYEVENT:FALSE
SUMMARY:Small Business Kick Off
DESCRIPTION:Join us for our Small Business Week Kick-Off Celebration as we honor the success of small businesses and connect entrepreneurs with valuable resources and opportunities. This event is designed to bring together business owners\, community partners\, and supporters for networking\, collaboration\, and inspiration as we celebrate the impact of small businesses in our community. Small Business Week Kickoff PanelMayor Roundtable: From Business Owners to City Leaders
X-ALT-DESC;FMTTYPE=text/html:<!DOCTYPE html><html><head><title></title></head><body aria-disabled="false"><p>Join us for our Small Business Week Kick-Off Celebration as we honor the success of small businesses and connect entrepreneurs with valuable resources and opportunities. This event is designed to bring together business owners\, community partners\, and supporters for networking\, collaboration\, and inspiration as we celebrate the impact of small businesses in our community.&nbsp\;</p><p>Small Business Week Kickoff Panel</p><p>Mayor Roundtable: From Business Owners to City Leaders</p></body></html>
LOCATION:10 Henry Trost Ct 12020 Rojas El Paso 79901
UID:e.4768.1446629
SEQUENCE:3
DTSTAMP:20260421T112335Z
URL:https://members.ephcc.org/events/Details/small-business-kick-off-1713403?sourceTypeId=Hub
END:VEVENT
END:VCALENDAR
